BEGIN:VCALENDAR
VERSION:2.0
PRODID:-//Mekong Community Center - ECPv6.15.12.2//NONSGML v1.0//EN
CALSCALE:GREGORIAN
METHOD:PUBLISH
X-WR-CALNAME:Mekong Community Center
X-ORIGINAL-URL:https://mekongcommunity.org
X-WR-CALDESC:Events for Mekong Community Center
REFRESH-INTERVAL;VALUE=DURATION:PT1H
X-Robots-Tag:noindex
X-PUBLISHED-TTL:PT1H
BEGIN:VTIMEZONE
TZID:UTC
BEGIN:STANDARD
TZOFFSETFROM:+0000
TZOFFSETTO:+0000
TZNAME:UTC
DTSTART:20220101T000000
END:STANDARD
END:VTIMEZONE
BEGIN:VEVENT
DTSTART;TZID=UTC:20230825T110000
DTEND;TZID=UTC:20230825T160000
DTSTAMP:20260420T131257
CREATED:20230921T043950Z
LAST-MODIFIED:20230921T044028Z
UID:1050-1692961200-1692979200@mekongcommunity.org
SUMMARY:Community Festival
DESCRIPTION:Mekong teamed up with the Vietnamese American Organization and many other health and community-based organizations to provide resources to our Vietnamese community. The event took place at the Vietnamese American Cultural Center where community members celebrated with fun games and activities\, raffles\, musical performances\, and cultural food. The Mayor of San Jose\, Matt Mahan\, attended the event to show his support and made time to stop by our booth to say hello and thank us for our service. \nEvent Photos
URL:https://mekongcommunity.org/event/community-festival/
LOCATION:CA
ATTACH;FMTTYPE=image/jpeg:https://mekongcommunity.org/wp-content/uploads/2023/09/IMG_5051-e1695102919210.jpg
END:VEVENT
END:VCALENDAR