BEGIN:VCALENDAR
VERSION:2.0
PRODID:-//Mekong Community Center - ECPv6.15.12.2//NONSGML v1.0//EN
CALSCALE:GREGORIAN
METHOD:PUBLISH
X-WR-CALNAME:Mekong Community Center
X-ORIGINAL-URL:https://mekongcommunity.org
X-WR-CALDESC:Events for Mekong Community Center
REFRESH-INTERVAL;VALUE=DURATION:PT1H
X-Robots-Tag:noindex
X-PUBLISHED-TTL:PT1H
BEGIN:VTIMEZONE
TZID:UTC
BEGIN:STANDARD
TZOFFSETFROM:+0000
TZOFFSETTO:+0000
TZNAME:UTC
DTSTART:20220101T000000
END:STANDARD
END:VTIMEZONE
BEGIN:VEVENT
DTSTART;TZID=UTC:20231117T113000
DTEND;TZID=UTC:20231117T123000
DTSTAMP:20260420T003540
CREATED:20231103T001510Z
LAST-MODIFIED:20231103T001510Z
UID:2553-1700220600-1700224200@mekongcommunity.org
SUMMARY:Thanksgiving Gathering
DESCRIPTION:In honor of Thanksgiving Day\, we would like to celebrate community members who have participated in our wellness center’s workshops and activities.
URL:https://mekongcommunity.org/event/thanksgiving-gathering/
LOCATION:Mekong Wellness Center\, 2690 South White Road-Suite #250\, San José\, CA\, 95148\, United States
ATTACH;FMTTYPE=image/jpeg:https://mekongcommunity.org/wp-content/uploads/2023/11/Thanksgiving-Gathering.jpg
END:VEVENT
END:VCALENDAR