BEGIN:VCALENDAR
VERSION:2.0
PRODID:-//Mekong Community Center - ECPv6.15.12.2//NONSGML v1.0//EN
CALSCALE:GREGORIAN
METHOD:PUBLISH
X-WR-CALNAME:Mekong Community Center
X-ORIGINAL-URL:https://mekongcommunity.org
X-WR-CALDESC:Events for Mekong Community Center
REFRESH-INTERVAL;VALUE=DURATION:PT1H
X-Robots-Tag:noindex
X-PUBLISHED-TTL:PT1H
BEGIN:VTIMEZONE
TZID:UTC
BEGIN:STANDARD
TZOFFSETFROM:+0000
TZOFFSETTO:+0000
TZNAME:UTC
DTSTART:20230101T000000
END:STANDARD
END:VTIMEZONE
BEGIN:VEVENT
DTSTART;TZID=UTC:20240224T100000
DTEND;TZID=UTC:20240224T140000
DTSTAMP:20260419T193605
CREATED:20240124T215114Z
LAST-MODIFIED:20240124T215532Z
UID:5326-1708768800-1708783200@mekongcommunity.org
SUMMARY:Lunar New Year Celebration
DESCRIPTION:This year\, we are celebrating Lunar New Year with Santa Clara Family Health Plan- Blanca Alvarado Community Resource Center. Come join us in celebrating the year of the Dragon! There will be many fun activities and entertainment for families to enjoy and FREE health screenings. We hope to see you there!
URL:https://mekongcommunity.org/event/lunar-new-year-celebration/
LOCATION:Blanca Alvarado Community Resource Center\, 408 N. Capitol Ave\, San Jose\, CA\, 95133\, United States
ATTACH;FMTTYPE=image/jpeg:https://mekongcommunity.org/wp-content/uploads/2024/01/crc_lunar_ny_2024_flyer-en_page-0001.jpg
END:VEVENT
END:VCALENDAR