BEGIN:VCALENDAR
VERSION:2.0
PRODID:-//Mekong Community Center - ECPv6.15.12.2//NONSGML v1.0//EN
CALSCALE:GREGORIAN
METHOD:PUBLISH
X-ORIGINAL-URL:https://mekongcommunity.org
X-WR-CALDESC:Events for Mekong Community Center
REFRESH-INTERVAL;VALUE=DURATION:PT1H
X-Robots-Tag:noindex
X-PUBLISHED-TTL:PT1H
BEGIN:VTIMEZONE
TZID:UTC
BEGIN:STANDARD
TZOFFSETFROM:+0000
TZOFFSETTO:+0000
TZNAME:UTC
DTSTART:20230101T000000
END:STANDARD
END:VTIMEZONE
BEGIN:VEVENT
DTSTART;TZID=UTC:20240317T113000
DTEND;TZID=UTC:20240317T123000
DTSTAMP:20260419T181050
CREATED:20231118T012211Z
LAST-MODIFIED:20250618T012333Z
UID:24167-1710675000-1710678600@mekongcommunity.org
SUMMARY:Bingo - Social Gathering for Adults
DESCRIPTION:2670 S WHITE RD #200\, \nSAN JOSE\, CA \n(SECOND FLOOR) \n\nSUNDAY\, MARCH 17\, 2024 \n11:30AM -12:30PM  \n\nThere will be light snacks & refreshments (spacing is limited) \n\nCONTACT BIKCEE@MEKONGCOMMUNITY.ORG \nFOR MORE INFORMATION & TO REGISTER \nVisit us: Mekongcommunity.org
URL:https://mekongcommunity.org/event/bingo-social-gathering-for-adults/
LOCATION:Mekong Wellness Center\, 2690 South White Road-Suite #250\, San José\, CA\, 95148\, United States
ATTACH;FMTTYPE=image/png:https://mekongcommunity.org/wp-content/uploads/2025/06/03-17-2024-BINGO-SOCIAL-GATHERING-FOR-ADULTS.png
END:VEVENT
BEGIN:VEVENT
DTSTART;TZID=UTC:20240317T113000
DTEND;TZID=UTC:20240317T123000
DTSTAMP:20260419T181050
CREATED:20240208T032732Z
LAST-MODIFIED:20240208T032732Z
UID:5796-1710675000-1710678600@mekongcommunity.org
SUMMARY:Bingo + Social Gathering For Adults(+18)
DESCRIPTION:
URL:https://mekongcommunity.org/event/bingo-social-gathering-for-adults18/
LOCATION:Mekong Wellness Center\, 2690 South White Road-Suite #250\, San José\, CA\, 95148\, United States
ATTACH;FMTTYPE=image/png:https://mekongcommunity.org/wp-content/uploads/2024/01/Vday-arts-and-crafts.png
END:VEVENT
END:VCALENDAR