BEGIN:VCALENDAR
VERSION:2.0
PRODID:-//Mekong Community Center - ECPv6.15.12.2//NONSGML v1.0//EN
CALSCALE:GREGORIAN
METHOD:PUBLISH
X-WR-CALNAME:Mekong Community Center
X-ORIGINAL-URL:https://mekongcommunity.org
X-WR-CALDESC:Events for Mekong Community Center
REFRESH-INTERVAL;VALUE=DURATION:PT1H
X-Robots-Tag:noindex
X-PUBLISHED-TTL:PT1H
BEGIN:VTIMEZONE
TZID:UTC
BEGIN:STANDARD
TZOFFSETFROM:+0000
TZOFFSETTO:+0000
TZNAME:UTC
DTSTART:20250101T000000
END:STANDARD
END:VTIMEZONE
BEGIN:VEVENT
DTSTART;TZID=UTC:20260521T113000
DTEND;TZID=UTC:20260521T133000
DTSTAMP:20260423T113319
CREATED:20260422T040050Z
LAST-MODIFIED:20260422T040050Z
UID:35733-1779363000-1779370200@mekongcommunity.org
SUMMARY:Lion Plaza (Next to TK Noodle) Tabling
DESCRIPTION:Mekong Community Center Outreach Booth @ Lion Supermarket \n\n\nWhat: Community resource booth offering friendly support\, social services\, and mental health resources & Mekong Wellness Center\n\nTo promote accessible mental health services and proactive care\, strengthening community support and hope for all.\n\n\nWhere: Lion Plaza on Tully Road\, next to TK Noodle\n\nAddress: 1818 Tully Rd #162B\, San Jose\, CA 95122\n\n\nWhen:\n\nApril 22\, May 21\, and June 18\, 2026\n\n\nTime: 11:30 AM – 1:30 PM
URL:https://mekongcommunity.org/event/lion-plaza-next-to-tk-noodle-tabling-3/
LOCATION:Lion Plaza (Next to TK Noodle) Tabling\, 1818 Tully Rd #162B\, San Jose\, CA\, 95122\, United States
CATEGORIES:Tabling
ATTACH;FMTTYPE=image/png:https://mekongcommunity.org/wp-content/uploads/2026/04/MCC-Lion-Plaza-Flyer-English.png
END:VEVENT
END:VCALENDAR