BEGIN:VCALENDAR
VERSION:2.0
PRODID:-//Mekong Community Center - ECPv6.15.12.2//NONSGML v1.0//EN
CALSCALE:GREGORIAN
METHOD:PUBLISH
X-ORIGINAL-URL:https://mekongcommunity.org
X-WR-CALDESC:Events for Mekong Community Center
REFRESH-INTERVAL;VALUE=DURATION:PT1H
X-Robots-Tag:noindex
X-PUBLISHED-TTL:PT1H
BEGIN:VTIMEZONE
TZID:UTC
BEGIN:STANDARD
TZOFFSETFROM:+0000
TZOFFSETTO:+0000
TZNAME:UTC
DTSTART:20250101T000000
END:STANDARD
END:VTIMEZONE
BEGIN:VEVENT
DTSTART;TZID=UTC:20260316T120000
DTEND;TZID=UTC:20260316T140000
DTSTAMP:20260423T102750
CREATED:20260115T172805Z
LAST-MODIFIED:20260301T021722Z
UID:32003-1773662400-1773669600@mekongcommunity.org
SUMMARY:24 Hour Fitness Tabling
DESCRIPTION:Location:\n2200 Eastridge Loop Suite 1428\, San Jose\, CA 95122\nDates (2026):\n• January 12\n• February 9\n• March 16\n• April 13\n• May 11\n• June 8\nTime:\n12:00 PM – 2:00 PM\nPurpose:\nWe assist with community resources and referrals for individuals and families.\nContact Information:\nMekong Community Center\n2690 S. White Rd. Suite #250\, San Jose\, CA 95148\nTel: (408) 914-2873\nWebsite: http://www.mekongcommunity.org\nInstagram/Facebook: @mekongcommunitycenter
URL:https://mekongcommunity.org/event/mekong-community-center-24-hour-fitness-tabling-3/
LOCATION:24 Hour Fitness\, 2200 Eastridge Loop Suite 1428\, San Jose\, CA\, 95122\, United States
CATEGORIES:Tabling
ATTACH;FMTTYPE=image/png:https://mekongcommunity.org/wp-content/uploads/2026/01/MCC-24-Hour-Fitness-Outreach-English-1.png
END:VEVENT
BEGIN:VEVENT
DTSTART;TZID=UTC:20260326T120000
DTEND;TZID=UTC:20260326T140000
DTSTAMP:20260423T102750
CREATED:20260227T014123Z
LAST-MODIFIED:20260227T014123Z
UID:33855-1774526400-1774533600@mekongcommunity.org
SUMMARY:Grand Century Mall Tabling
DESCRIPTION:Mekong Community Center will be hosting monthly tabling events at Grand Century Mall (1111 Story Rd\, San Jose\, CA 95122) from 12 PM to 2 PM. \nWe assist with community resources and referrals for individuals and families.\n\n2026 Dates: \n\n1/29\n2/26\n3/26\n4/30\n5/28\n6/25\n\nStaff will be available to provide community resources and referrals for individuals and families.
URL:https://mekongcommunity.org/event/grand-century-mall-tabling-3/
LOCATION:Grand Century Mall\, 1111 Story Rd\, San Jose\, CA\, 95122\, United States
CATEGORIES:Tabling
ATTACH;FMTTYPE=image/png:https://mekongcommunity.org/wp-content/uploads/2026/02/MCC-Grand-Century-Shopping-Mall-Tabling-English.png
END:VEVENT
BEGIN:VEVENT
DTSTART;TZID=UTC:20260402T110000
DTEND;TZID=UTC:20260402T130000
DTSTAMP:20260423T102750
CREATED:20260422T035718Z
LAST-MODIFIED:20260422T035718Z
UID:35743-1775127600-1775134800@mekongcommunity.org
SUMMARY:Silicon Valley Chao Chow Community Center of San Jose – Tabling Event
DESCRIPTION:What: Community outreach tabling providing assistance with community resources and referrals for individuals and families\n\nTo connect individuals and families with helpful community resources and referrals through in-person support.\n\n\nWhen (2026): March 3\, April 2\, May 1\, and June 15\nTime: 11:00 AM – 1:00 PM\nWhere: 2580 Alvin Ave\, San Jose\, CA 95121
URL:https://mekongcommunity.org/event/silicon-valley-chao-chow-community-center-of-san-jose-tabling-event-2/
LOCATION:Silicon Valley Chao Chow Community Center\, 2580 Alvin Ave\, San Jose\, CA\, 95121\, United States
CATEGORIES:Tabling
ATTACH;FMTTYPE=image/png:https://mekongcommunity.org/wp-content/uploads/2026/04/MCC-Silicon-Valley-Chao-Chow-Community-Center-of-San-Jose-Tabling-English.png
END:VEVENT
BEGIN:VEVENT
DTSTART;TZID=UTC:20260413T120000
DTEND;TZID=UTC:20260413T140000
DTSTAMP:20260423T102750
CREATED:20260115T175847Z
LAST-MODIFIED:20260301T021635Z
UID:32008-1776081600-1776088800@mekongcommunity.org
SUMMARY:24 Hour Fitness Tabling
DESCRIPTION:Location:\n2200 Eastridge Loop Suite 1428\, San Jose\, CA 95122\nDates (2026):\n• January 12\n• February 9\n• March 16\n• April 13\n• May 11\n• June 8\nTime:\n12:00 PM – 2:00 PM\nPurpose:\nWe assist with community resources and referrals for individuals and families.\nContact Information:\nMekong Community Center\n2690 S. White Rd. Suite #250\, San Jose\, CA 95148\nTel: (408) 914-2873\nWebsite: http://www.mekongcommunity.org\nInstagram/Facebook: @mekongcommunitycenter
URL:https://mekongcommunity.org/event/24-hour-fitness-tabling/
LOCATION:24 Hour Fitness\, 2200 Eastridge Loop Suite 1428\, San Jose\, CA\, 95122\, United States
CATEGORIES:Tabling
ATTACH;FMTTYPE=image/png:https://mekongcommunity.org/wp-content/uploads/2026/01/MCC-24-Hour-Fitness-Outreach-English-1.png
END:VEVENT
BEGIN:VEVENT
DTSTART;TZID=UTC:20260422T113000
DTEND;TZID=UTC:20260422T133000
DTSTAMP:20260423T102750
CREATED:20260422T034638Z
LAST-MODIFIED:20260422T034638Z
UID:35726-1776857400-1776864600@mekongcommunity.org
SUMMARY:Lion Plaza (Next to TK Noodle) Tabling
DESCRIPTION:Mekong Community Center Outreach Booth @ Lion Supermarket \n\n\nWhat: Community resource booth offering friendly support\, social services\, and mental health resources & Mekong Wellness Center\n\nTo promote accessible mental health services and proactive care\, strengthening community support and hope for all.\n\n\nWhere: Lion Plaza on Tully Road\, next to TK Noodle\n\nAddress: 1818 Tully Rd #162B\, San Jose\, CA 95122\n\n\nWhen:\n\nApril 22\, May 21\, and June 18\, 2026\n\n\nTime: 11:30 AM – 1:30 PM
URL:https://mekongcommunity.org/event/lion-plaza-next-to-tk-noodle-tabling/
LOCATION:Lion Plaza (Next to TK Noodle) Tabling\, 1818 Tully Rd #162B\, San Jose\, CA\, 95122\, United States
CATEGORIES:Tabling
ATTACH;FMTTYPE=image/png:https://mekongcommunity.org/wp-content/uploads/2026/04/MCC-Lion-Plaza-Flyer-English.png
END:VEVENT
BEGIN:VEVENT
DTSTART;TZID=UTC:20260427T120000
DTEND;TZID=UTC:20260427T140000
DTSTAMP:20260423T102750
CREATED:20260115T181451Z
LAST-MODIFIED:20260301T021003Z
UID:32023-1777291200-1777298400@mekongcommunity.org
SUMMARY:Maxim Market Tabling
DESCRIPTION:Location:\nMaxim Market\n1930 Aborn Rd\, San Jose\, CA 95121\nTime:\n12:00 PM – 2:00 PM\nDates (2026):\n• January 26\n• February 23\n• March 13\n• April 27\n• June 22\nPurpose:\nWe assist with community resources and referrals for individuals and families.\nContact Information:\nMekong Community Center\n2690 S. White Rd\, STE 250\, San Jose\, CA 95148\nTel: (408) 914-2873\nWebsite: www.mekongcommunity.org\nEmail:\n• bikce@mekongcommunity.org\n• thao@mekongcommunity.org\n• viviane@mekongcommunity.org\n\n\n \n  \n 
URL:https://mekongcommunity.org/event/maxim-market-tabling-4/
LOCATION:Maxim Market\, 1930 Aborn Rd\, San Jose\, CA\, 95121\, United States
CATEGORIES:Tabling
ATTACH;FMTTYPE=image/png:https://mekongcommunity.org/wp-content/uploads/2026/01/Maxim-Market-Flyer-English-1.png
END:VEVENT
BEGIN:VEVENT
DTSTART;TZID=UTC:20260430T120000
DTEND;TZID=UTC:20260430T140000
DTSTAMP:20260423T102750
CREATED:20260227T014208Z
LAST-MODIFIED:20260227T014208Z
UID:33857-1777550400-1777557600@mekongcommunity.org
SUMMARY:Grand Century Mall Tabling
DESCRIPTION:Mekong Community Center will be hosting monthly tabling events at Grand Century Mall (1111 Story Rd\, San Jose\, CA 95122) from 12 PM to 2 PM. \nWe assist with community resources and referrals for individuals and families.\n\n2026 Dates: \n\n1/29\n2/26\n3/26\n4/30\n5/28\n6/25\n\nStaff will be available to provide community resources and referrals for individuals and families.
URL:https://mekongcommunity.org/event/grand-century-mall-tabling-4/
LOCATION:Grand Century Mall\, 1111 Story Rd\, San Jose\, CA\, 95122\, United States
CATEGORIES:Tabling
ATTACH;FMTTYPE=image/png:https://mekongcommunity.org/wp-content/uploads/2026/02/MCC-Grand-Century-Shopping-Mall-Tabling-English.png
END:VEVENT
BEGIN:VEVENT
DTSTART;TZID=UTC:20260501T110000
DTEND;TZID=UTC:20260501T130000
DTSTAMP:20260423T102750
CREATED:20260422T035811Z
LAST-MODIFIED:20260422T035811Z
UID:35745-1777633200-1777640400@mekongcommunity.org
SUMMARY:Silicon Valley Chao Chow Community Center of San Jose – Tabling Event
DESCRIPTION:What: Community outreach tabling providing assistance with community resources and referrals for individuals and families\n\nTo connect individuals and families with helpful community resources and referrals through in-person support.\n\n\nWhen (2026): March 3\, April 2\, May 1\, and June 15\nTime: 11:00 AM – 1:00 PM\nWhere: 2580 Alvin Ave\, San Jose\, CA 95121
URL:https://mekongcommunity.org/event/silicon-valley-chao-chow-community-center-of-san-jose-tabling-event-3/
LOCATION:Silicon Valley Chao Chow Community Center\, 2580 Alvin Ave\, San Jose\, CA\, 95121\, United States
CATEGORIES:Tabling
ATTACH;FMTTYPE=image/png:https://mekongcommunity.org/wp-content/uploads/2026/04/MCC-Silicon-Valley-Chao-Chow-Community-Center-of-San-Jose-Tabling-English.png
END:VEVENT
BEGIN:VEVENT
DTSTART;TZID=UTC:20260511T120000
DTEND;TZID=UTC:20260511T140000
DTSTAMP:20260423T102750
CREATED:20260115T175953Z
LAST-MODIFIED:20260301T021545Z
UID:32011-1778500800-1778508000@mekongcommunity.org
SUMMARY:24 Hour Fitness Tabling
DESCRIPTION:Location:\n2200 Eastridge Loop Suite 1428\, San Jose\, CA 95122\nDates (2026):\n• January 12\n• February 9\n• March 16\n• April 13\n• May 11\n• June 8\nTime:\n12:00 PM – 2:00 PM\nPurpose:\nWe assist with community resources and referrals for individuals and families.\nContact Information:\nMekong Community Center\n2690 S. White Rd. Suite #250\, San Jose\, CA 95148\nTel: (408) 914-2873\nWebsite: http://www.mekongcommunity.org\nInstagram/Facebook: @mekongcommunitycenter
URL:https://mekongcommunity.org/event/24-hour-fitness-tabling-2/
LOCATION:24 Hour Fitness\, 2200 Eastridge Loop Suite 1428\, San Jose\, CA\, 95122\, United States
CATEGORIES:Tabling
ATTACH;FMTTYPE=image/png:https://mekongcommunity.org/wp-content/uploads/2026/01/MCC-24-Hour-Fitness-Outreach-English-1.png
END:VEVENT
BEGIN:VEVENT
DTSTART;TZID=UTC:20260521T113000
DTEND;TZID=UTC:20260521T133000
DTSTAMP:20260423T102750
CREATED:20260422T040050Z
LAST-MODIFIED:20260422T040050Z
UID:35733-1779363000-1779370200@mekongcommunity.org
SUMMARY:Lion Plaza (Next to TK Noodle) Tabling
DESCRIPTION:Mekong Community Center Outreach Booth @ Lion Supermarket \n\n\nWhat: Community resource booth offering friendly support\, social services\, and mental health resources & Mekong Wellness Center\n\nTo promote accessible mental health services and proactive care\, strengthening community support and hope for all.\n\n\nWhere: Lion Plaza on Tully Road\, next to TK Noodle\n\nAddress: 1818 Tully Rd #162B\, San Jose\, CA 95122\n\n\nWhen:\n\nApril 22\, May 21\, and June 18\, 2026\n\n\nTime: 11:30 AM – 1:30 PM
URL:https://mekongcommunity.org/event/lion-plaza-next-to-tk-noodle-tabling-3/
LOCATION:Lion Plaza (Next to TK Noodle) Tabling\, 1818 Tully Rd #162B\, San Jose\, CA\, 95122\, United States
CATEGORIES:Tabling
ATTACH;FMTTYPE=image/png:https://mekongcommunity.org/wp-content/uploads/2026/04/MCC-Lion-Plaza-Flyer-English.png
END:VEVENT
BEGIN:VEVENT
DTSTART;TZID=UTC:20260528T120000
DTEND;TZID=UTC:20260528T140000
DTSTAMP:20260423T102750
CREATED:20260227T014301Z
LAST-MODIFIED:20260227T014301Z
UID:33859-1779969600-1779976800@mekongcommunity.org
SUMMARY:Grand Century Mall Tabling
DESCRIPTION:Mekong Community Center will be hosting monthly tabling events at Grand Century Mall (1111 Story Rd\, San Jose\, CA 95122) from 12 PM to 2 PM. \nWe assist with community resources and referrals for individuals and families.\n\n2026 Dates: \n\n1/29\n2/26\n3/26\n4/30\n5/28\n6/25\n\nStaff will be available to provide community resources and referrals for individuals and families.
URL:https://mekongcommunity.org/event/grand-century-mall-tabling-5/
LOCATION:Grand Century Mall\, 1111 Story Rd\, San Jose\, CA\, 95122\, United States
CATEGORIES:Tabling
ATTACH;FMTTYPE=image/png:https://mekongcommunity.org/wp-content/uploads/2026/02/MCC-Grand-Century-Shopping-Mall-Tabling-English.png
END:VEVENT
BEGIN:VEVENT
DTSTART;TZID=UTC:20260608T120000
DTEND;TZID=UTC:20260608T140000
DTSTAMP:20260423T102750
CREATED:20260115T180110Z
LAST-MODIFIED:20260301T021453Z
UID:32013-1780920000-1780927200@mekongcommunity.org
SUMMARY:24 Hour Fitness Tabling
DESCRIPTION:Location:\n2200 Eastridge Loop Suite 1428\, San Jose\, CA 95122\nDates (2026):\n• January 12\n• February 9\n• March 16\n• April 13\n• May 11\n• June 8\nTime:\n12:00 PM – 2:00 PM\nPurpose:\nWe assist with community resources and referrals for individuals and families.\nContact Information:\nMekong Community Center\n2690 S. White Rd. Suite #250\, San Jose\, CA 95148\nTel: (408) 914-2873\nWebsite: http://www.mekongcommunity.org\nInstagram/Facebook: @mekongcommunitycenter
URL:https://mekongcommunity.org/event/24-hour-fitness-tabling-3/
LOCATION:24 Hour Fitness\, 2200 Eastridge Loop Suite 1428\, San Jose\, CA\, 95122\, United States
CATEGORIES:Tabling
ATTACH;FMTTYPE=image/png:https://mekongcommunity.org/wp-content/uploads/2026/01/MCC-24-Hour-Fitness-Outreach-English-1.png
END:VEVENT
BEGIN:VEVENT
DTSTART;TZID=UTC:20260615T110000
DTEND;TZID=UTC:20260615T130000
DTSTAMP:20260423T102750
CREATED:20260422T035907Z
LAST-MODIFIED:20260422T035907Z
UID:35747-1781521200-1781528400@mekongcommunity.org
SUMMARY:Silicon Valley Chao Chow Community Center of San Jose – Tabling Event
DESCRIPTION:What: Community outreach tabling providing assistance with community resources and referrals for individuals and families\n\nTo connect individuals and families with helpful community resources and referrals through in-person support.\n\n\nWhen (2026): March 3\, April 2\, May 1\, and June 15\nTime: 11:00 AM – 1:00 PM\nWhere: 2580 Alvin Ave\, San Jose\, CA 95121
URL:https://mekongcommunity.org/event/silicon-valley-chao-chow-community-center-of-san-jose-tabling-event-4/
LOCATION:Silicon Valley Chao Chow Community Center\, 2580 Alvin Ave\, San Jose\, CA\, 95121\, United States
CATEGORIES:Tabling
ATTACH;FMTTYPE=image/png:https://mekongcommunity.org/wp-content/uploads/2026/04/MCC-Silicon-Valley-Chao-Chow-Community-Center-of-San-Jose-Tabling-English.png
END:VEVENT
BEGIN:VEVENT
DTSTART;TZID=UTC:20260618T113000
DTEND;TZID=UTC:20260618T133000
DTSTAMP:20260423T102750
CREATED:20260422T034841Z
LAST-MODIFIED:20260422T034841Z
UID:35735-1781782200-1781789400@mekongcommunity.org
SUMMARY:Lion Plaza (Next to TK Noodle) Tabling
DESCRIPTION:Mekong Community Center Outreach Booth @ Lion Supermarket \n\n\nWhat: Community resource booth offering friendly support\, social services\, and mental health resources & Mekong Wellness Center\n\nTo promote accessible mental health services and proactive care\, strengthening community support and hope for all.\n\n\nWhere: Lion Plaza on Tully Road\, next to TK Noodle\n\nAddress: 1818 Tully Rd #162B\, San Jose\, CA 95122\n\n\nWhen:\n\nApril 22\, May 21\, and June 18\, 2026\n\n\nTime: 11:30 AM – 1:30 PM
URL:https://mekongcommunity.org/event/lion-plaza-next-to-tk-noodle-tabling-2/
LOCATION:Lion Plaza (Next to TK Noodle) Tabling\, 1818 Tully Rd #162B\, San Jose\, CA\, 95122\, United States
CATEGORIES:Tabling
ATTACH;FMTTYPE=image/png:https://mekongcommunity.org/wp-content/uploads/2026/04/MCC-Lion-Plaza-Flyer-English.png
END:VEVENT
BEGIN:VEVENT
DTSTART;TZID=UTC:20260622T120000
DTEND;TZID=UTC:20260622T140000
DTSTAMP:20260423T102750
CREATED:20260115T181551Z
LAST-MODIFIED:20260301T020922Z
UID:32025-1782129600-1782136800@mekongcommunity.org
SUMMARY:Maxim Market Tabling
DESCRIPTION:Location:\nMaxim Market\n1930 Aborn Rd\, San Jose\, CA 95121\nTime:\n12:00 PM – 2:00 PM\nDates (2026):\n• January 26\n• February 23\n• March 13\n• April 27\n• June 22\nPurpose:\nWe assist with community resources and referrals for individuals and families.\nContact Information:\nMekong Community Center\n2690 S. White Rd\, STE 250\, San Jose\, CA 95148\nTel: (408) 914-2873\nWebsite: www.mekongcommunity.org\nEmail:\n• bikce@mekongcommunity.org\n• thao@mekongcommunity.org\n• viviane@mekongcommunity.org\n\n\n \n  \n 
URL:https://mekongcommunity.org/event/maxim-market-tabling-5/
LOCATION:24 Hour Fitness\, 2200 Eastridge Loop Suite 1428\, San Jose\, CA\, 95122\, United States
CATEGORIES:Tabling
ATTACH;FMTTYPE=image/png:https://mekongcommunity.org/wp-content/uploads/2026/01/Maxim-Market-Flyer-English-1.png
END:VEVENT
BEGIN:VEVENT
DTSTART;TZID=UTC:20260625T120000
DTEND;TZID=UTC:20260625T140000
DTSTAMP:20260423T102750
CREATED:20260227T014352Z
LAST-MODIFIED:20260227T014352Z
UID:33861-1782388800-1782396000@mekongcommunity.org
SUMMARY:Grand Century Mall Tabling
DESCRIPTION:Mekong Community Center will be hosting monthly tabling events at Grand Century Mall (1111 Story Rd\, San Jose\, CA 95122) from 12 PM to 2 PM. \nWe assist with community resources and referrals for individuals and families.\n\n2026 Dates: \n\n1/29\n2/26\n3/26\n4/30\n5/28\n6/25\n\nStaff will be available to provide community resources and referrals for individuals and families.
URL:https://mekongcommunity.org/event/grand-century-mall-tabling-6/
LOCATION:Grand Century Mall\, 1111 Story Rd\, San Jose\, CA\, 95122\, United States
CATEGORIES:Tabling
ATTACH;FMTTYPE=image/png:https://mekongcommunity.org/wp-content/uploads/2026/02/MCC-Grand-Century-Shopping-Mall-Tabling-English.png
END:VEVENT
END:VCALENDAR