BEGIN:VCALENDAR
VERSION:2.0
PRODID:-//Mekong Community Center - ECPv6.15.12.2//NONSGML v1.0//EN
CALSCALE:GREGORIAN
METHOD:PUBLISH
X-WR-CALNAME:Mekong Community Center
X-ORIGINAL-URL:https://mekongcommunity.org
X-WR-CALDESC:Events for Mekong Community Center
REFRESH-INTERVAL;VALUE=DURATION:PT1H
X-Robots-Tag:noindex
X-PUBLISHED-TTL:PT1H
BEGIN:VTIMEZONE
TZID:UTC
BEGIN:STANDARD
TZOFFSETFROM:+0000
TZOFFSETTO:+0000
TZNAME:UTC
DTSTART:20220101T000000
END:STANDARD
END:VTIMEZONE
BEGIN:VEVENT
DTSTART;TZID=UTC:20230709T110000
DTEND;TZID=UTC:20230709T160000
DTSTAMP:20260420T053357
CREATED:20230921T043258Z
LAST-MODIFIED:20230921T044230Z
UID:1042-1688900400-1688918400@mekongcommunity.org
SUMMARY:Annual Superhero Festival
DESCRIPTION:We believe that everyone\, despite their background and challenges\, deserves equal access to community resources and to live life to their fullest potential. It was Mekong’s second time attending the San Andreas Regional Center’s Annual Superhero 5k walk/run and Festival to support individuals with differing abilities. The event was located at San Jose History Park\, with over 60 service providers and community-based organizations that came together to share information about services offered in the community. The wellness team had a great time dressing up in superhero costumes to fit in with the theme and show support. The team enjoyed all the music and dance performances by the College of Adaptive Arts\, Latizmo Hip Hop\, and the New Hope Band Music Camp Band\, who all provide equitable and positive experiences to individuals with disabilities who historically have not had access to higher education and extracurricular activities such as in dance and music. \nEvent Photos
URL:https://mekongcommunity.org/event/annual-superhero-festival/
LOCATION:San Jose History Park
ATTACH;FMTTYPE=image/jpeg:https://mekongcommunity.org/wp-content/uploads/2023/09/tmp6-e1695270744447.jpg
END:VEVENT
BEGIN:VEVENT
DTSTART;TZID=UTC:20230722T110000
DTEND;TZID=UTC:20230722T160000
DTSTAMP:20260420T053357
CREATED:20230921T042441Z
LAST-MODIFIED:20230921T044348Z
UID:1038-1690023600-1690041600@mekongcommunity.org
SUMMARY:Minority Mental Health Awareness
DESCRIPTION:Mekong Community Center attended the 3rd Annual Minority Mental Wellness Resource Fair to assist the Hellyer Neighborhood Association and Santa Clara County of Behavioral Health in bringing mental health awareness to the community and helping to eliminate the stigma. The event was held at Hellyer Park where many health and other non-profit organizations came together to provide resources to the community. The event held a free screening area\, giveaways\, games and activities\, and entertainment celebrating diversity\, culture\, and more. The wellness team enjoyed meeting individuals and families who stopped by Mekong’s booth to share their stories\, concerns and needs with us. \nEvent Photos\n\n 
URL:https://mekongcommunity.org/event/minority-mental-health-awareness/
LOCATION:CA
ATTACH;FMTTYPE=image/png:https://mekongcommunity.org/wp-content/uploads/2023/09/Picture4.png
END:VEVENT
END:VCALENDAR