BEGIN:VCALENDAR
VERSION:2.0
PRODID:-//Mekong Community Center - ECPv6.15.12.2//NONSGML v1.0//EN
CALSCALE:GREGORIAN
METHOD:PUBLISH
X-ORIGINAL-URL:https://mekongcommunity.org
X-WR-CALDESC:Events for Mekong Community Center
REFRESH-INTERVAL;VALUE=DURATION:PT1H
X-Robots-Tag:noindex
X-PUBLISHED-TTL:PT1H
BEGIN:VTIMEZONE
TZID:UTC
BEGIN:STANDARD
TZOFFSETFROM:+0000
TZOFFSETTO:+0000
TZNAME:UTC
DTSTART:20220101T000000
END:STANDARD
END:VTIMEZONE
BEGIN:VEVENT
DTSTART;TZID=UTC:20231215T153000
DTEND;TZID=UTC:20231215T173000
DTSTAMP:20260419T212255
CREATED:20231201T011200Z
LAST-MODIFIED:20231201T011200Z
UID:3541-1702654200-1702661400@mekongcommunity.org
SUMMARY:Winter Festival at Tully Library
DESCRIPTION:Arts & crafts\, games\, goodie bags\, books giveaway\, balloon art\, raffles\, and sweet treats!
URL:https://mekongcommunity.org/event/winter-festival-at-tully-library/
LOCATION:Tully Community Branch Library\, 880 Tully Road\, San José\, California\, 95111\, United States
ATTACH;FMTTYPE=image/jpeg:https://mekongcommunity.org/wp-content/uploads/2023/12/Winter-Festival-at-Tully-Library.jpg
END:VEVENT
BEGIN:VEVENT
DTSTART;TZID=UTC:20231217T113000
DTEND;TZID=UTC:20231217T123000
DTSTAMP:20260419T212255
CREATED:20231201T011438Z
LAST-MODIFIED:20231201T011438Z
UID:3546-1702812600-1702816200@mekongcommunity.org
SUMMARY:Mekong Christmas Arts & Crafts
DESCRIPTION:Music/Community Support/Refreshments
URL:https://mekongcommunity.org/event/mekong-christmas-arts-crafts/
LOCATION:Mekong Wellness Center\, 2690 South White Road-Suite #250\, San José\, CA\, 95148\, United States
ATTACH;FMTTYPE=image/png:https://mekongcommunity.org/wp-content/uploads/2023/12/Mekong-Christmas-Arts-and-Crafts.png
END:VEVENT
BEGIN:VEVENT
DTSTART;TZID=UTC:20231223T110000
DTEND;TZID=UTC:20231223T130000
DTSTAMP:20260419T212255
CREATED:20231222T082435Z
LAST-MODIFIED:20231222T082435Z
UID:4313-1703329200-1703336400@mekongcommunity.org
SUMMARY:No-Sew Blanket Workshop
DESCRIPTION:
URL:https://mekongcommunity.org/event/no-sew-blanket-workshop/
LOCATION:Mekong Wellness Center\, 2690 South White Road-Suite #250\, San José\, CA\, 95148\, United States
ATTACH;FMTTYPE=image/png:https://mekongcommunity.org/wp-content/uploads/2023/12/23Dec-workshop-No-Sew-Blanket.png
END:VEVENT
END:VCALENDAR