BEGIN:VCALENDAR
VERSION:2.0
PRODID:-//Mekong Community Center - ECPv6.15.12.2//NONSGML v1.0//EN
CALSCALE:GREGORIAN
METHOD:PUBLISH
X-ORIGINAL-URL:https://mekongcommunity.org
X-WR-CALDESC:Events for Mekong Community Center
REFRESH-INTERVAL;VALUE=DURATION:PT1H
X-Robots-Tag:noindex
X-PUBLISHED-TTL:PT1H
BEGIN:VTIMEZONE
TZID:UTC
BEGIN:STANDARD
TZOFFSETFROM:+0000
TZOFFSETTO:+0000
TZNAME:UTC
DTSTART:20230101T000000
END:STANDARD
END:VTIMEZONE
BEGIN:VEVENT
DTSTART;TZID=UTC:20240411T100000
DTEND;TZID=UTC:20240411T130000
DTSTAMP:20260419T182118
CREATED:20240106T050752Z
LAST-MODIFIED:20240106T050752Z
UID:4753-1712829600-1712840400@mekongcommunity.org
SUMMARY:Community Resource and Referral Assistance
DESCRIPTION:
URL:https://mekongcommunity.org/event/community-resource-and-referral-assistance-5/
LOCATION:Alum Rock Branch Library\, 3090 Alum Rock Avenue\, San Jose\, CA\, 95051\, United States
ATTACH;FMTTYPE=image/jpeg:https://mekongcommunity.org/wp-content/uploads/2024/01/AR-community-outreach.jpg
END:VEVENT
BEGIN:VEVENT
DTSTART;TZID=UTC:20240420T113000
DTEND;TZID=UTC:20240420T123000
DTSTAMP:20260419T182118
CREATED:20240411T013058Z
LAST-MODIFIED:20240411T013058Z
UID:7781-1713612600-1713616200@mekongcommunity.org
SUMMARY:April Game Day
DESCRIPTION:
URL:https://mekongcommunity.org/event/april-game-day/
LOCATION:Mekong Wellness Center\, 2690 South White Road-Suite #250\, San José\, CA\, 95148\, United States
ATTACH;FMTTYPE=image/png:https://mekongcommunity.org/wp-content/uploads/2024/04/April-Game-day.png
END:VEVENT
BEGIN:VEVENT
DTSTART;TZID=UTC:20240425T100000
DTEND;TZID=UTC:20240425T130000
DTSTAMP:20260419T182119
CREATED:20240106T050826Z
LAST-MODIFIED:20240106T050826Z
UID:4755-1714039200-1714050000@mekongcommunity.org
SUMMARY:Community Resource and Referral Assistance
DESCRIPTION:
URL:https://mekongcommunity.org/event/community-resource-and-referral-assistance-6/
LOCATION:Alum Rock Branch Library\, 3090 Alum Rock Avenue\, San Jose\, CA\, 95051\, United States
ATTACH;FMTTYPE=image/jpeg:https://mekongcommunity.org/wp-content/uploads/2024/01/AR-community-outreach.jpg
END:VEVENT
BEGIN:VEVENT
DTSTART;TZID=UTC:20240428T120000
DTEND;TZID=UTC:20240428T130000
DTSTAMP:20260419T182119
CREATED:20240411T013217Z
LAST-MODIFIED:20240411T013217Z
UID:7784-1714305600-1714309200@mekongcommunity.org
SUMMARY:Arts & Crafts for Kids: Tissue Paper Butterflies
DESCRIPTION:
URL:https://mekongcommunity.org/event/arts-crafts-for-kids-tissue-paper-butterflies/
LOCATION:Mekong Wellness Center\, 2690 South White Road-Suite #250\, San José\, CA\, 95148\, United States
ATTACH;FMTTYPE=image/png:https://mekongcommunity.org/wp-content/uploads/2024/04/April-arts-and-crafts-for-kids.png
END:VEVENT
END:VCALENDAR